BEGIN:VCALENDAR
VERSION:2.0
PRODID:-//Story Book Lodge - ECPv6.15.20//NONSGML v1.0//EN
CALSCALE:GREGORIAN
METHOD:PUBLISH
X-WR-CALNAME:Story Book Lodge
X-ORIGINAL-URL:https://storybooklodge.org
X-WR-CALDESC:Events for Story Book Lodge
REFRESH-INTERVAL;VALUE=DURATION:PT1H
X-Robots-Tag:noindex
X-PUBLISHED-TTL:PT1H
BEGIN:VTIMEZONE
TZID:America/Chicago
BEGIN:DAYLIGHT
TZOFFSETFROM:-0600
TZOFFSETTO:-0500
TZNAME:CDT
DTSTART:20250309T080000
END:DAYLIGHT
BEGIN:STANDARD
TZOFFSETFROM:-0500
TZOFFSETTO:-0600
TZNAME:CST
DTSTART:20251102T070000
END:STANDARD
BEGIN:DAYLIGHT
TZOFFSETFROM:-0600
TZOFFSETTO:-0500
TZNAME:CDT
DTSTART:20260308T080000
END:DAYLIGHT
BEGIN:STANDARD
TZOFFSETFROM:-0500
TZOFFSETTO:-0600
TZNAME:CST
DTSTART:20261101T070000
END:STANDARD
BEGIN:DAYLIGHT
TZOFFSETFROM:-0600
TZOFFSETTO:-0500
TZNAME:CDT
DTSTART:20270314T080000
END:DAYLIGHT
BEGIN:STANDARD
TZOFFSETFROM:-0500
TZOFFSETTO:-0600
TZNAME:CST
DTSTART:20271107T070000
END:STANDARD
END:VTIMEZONE
BEGIN:VEVENT
DTSTART;TZID=America/Chicago:20260515T200000
DTEND;TZID=America/Chicago:20260517T123000
DTSTAMP:20260420T153106
CREATED:20260206T015827Z
LAST-MODIFIED:20260206T015957Z
UID:10000074-1778875200-1779021000@storybooklodge.org
SUMMARY:Men's Retreat 2026
DESCRIPTION:Fathers are welcome to bring sons of any age & if you have no available sons & God made you male you are welcome to join us for this gathering! Al Bulow will be sharing the Word for this retreat. \nDetails\nMen’s Retreat is a great time for men to enjoy some guy time! Held in the middle of May\, Story Book is thawing out and getting ready for the summer camp season. At this retreat\, guys of all ages can expect plenty of fishing\, sports\, kayaking\, archery\, lots of good food\, and time to hear and discuss God’s Word.
URL:https://storybooklodge.org/camp/mens-retreat-2026/
LOCATION:Story Book Lodge Christian Camp\, 5079 Vermilion Trail\, Gilbert\, MN\, 55741\, United States
CATEGORIES:Retreat
ORGANIZER;CN="Bill Howell":MAILTO:unclebill489@gmail.com
END:VEVENT
END:VCALENDAR